{
 "currentVersion": 10.61,
 "serviceDescription": "Moravská Ostrava. Přehledný plán města (spojených obcí) a nejbližšího okolí. Proveden dle nákresů městského stavebního úřadu.\n\nPopsány veřejné a soukromé budovy, vyznamné průmyslové, hospodářské a nezastavěné plochy, projektované ulice, místní dráhy aj. Měřítko originální mapy je 1 : 10 000. \n\nMapa se vykresluje do měřítka 1 : 1000",
 "mapName": "Layers",
 "description": "",
 "copyrightText": "SMO, Archiv města Ostravy",
 "supportsDynamicLayers": false,
 "layers": [
  {
   "id": 0,
   "name": "T1361",
   "parentLayerId": -1,
   "defaultVisibility": true,
   "subLayerIds": null,
   "minScale": 0,
   "maxScale": 0
  }
 ],
 "tables": [],
 "spatialReference": {
  "wkid": 102067,
  "latestWkid": 5514
 },
 "singleFusedMapCache": true,
 "tileInfo": {
  "rows": 256,
  "cols": 256,
  "dpi": 96,
  "format": "JPEG",
  "compressionQuality": 75,
  "origin": {
   "x": -33699800,
   "y": 33699800
  },
  "spatialReference": {
   "wkid": 102067,
   "latestWkid": 5514
  },
  "lods": [
   {
    "level": 0,
    "resolution": 39.687579375158755,
    "scale": 150000
   },
   {
    "level": 1,
    "resolution": 33.0729828126323,
    "scale": 125000
   },
   {
    "level": 2,
    "resolution": 26.458386250105836,
    "scale": 100000
   },
   {
    "level": 3,
    "resolution": 19.843789687579378,
    "scale": 75000
   },
   {
    "level": 4,
    "resolution": 13.229193125052918,
    "scale": 50000
   },
   {
    "level": 5,
    "resolution": 7.9375158750317505,
    "scale": 30000
   },
   {
    "level": 6,
    "resolution": 5.291677250021167,
    "scale": 20000
   },
   {
    "level": 7,
    "resolution": 3.9687579375158752,
    "scale": 15000
   },
   {
    "level": 8,
    "resolution": 3.3072982812632294,
    "scale": 12500
   },
   {
    "level": 9,
    "resolution": 2.6458386250105836,
    "scale": 10000
   },
   {
    "level": 10,
    "resolution": 1.9843789687579376,
    "scale": 7500
   },
   {
    "level": 11,
    "resolution": 1.3229193125052918,
    "scale": 5000
   },
   {
    "level": 12,
    "resolution": 0.7937515875031751,
    "scale": 3000
   },
   {
    "level": 13,
    "resolution": 0.6614596562526459,
    "scale": 2500
   },
   {
    "level": 14,
    "resolution": 0.5291677250021167,
    "scale": 2000
   },
   {
    "level": 15,
    "resolution": 0.39687579375158755,
    "scale": 1500
   },
   {
    "level": 16,
    "resolution": 0.26458386250105836,
    "scale": 1000
   }
  ]
 },
 "initialExtent": {
  "xmin": -479027.16791002656,
  "ymin": -1103112.254406922,
  "xmax": -466132.38830083044,
  "ymax": -1098929.4150492665,
  "spatialReference": {
   "wkid": 102067,
   "latestWkid": 5514
  }
 },
 "fullExtent": {
  "xmin": -476021.16963331896,
  "ymin": -1107517.9602806238,
  "xmax": -469138.8973137265,
  "ymax": -1097986.3245378628,
  "spatialReference": {
   "wkid": 102067,
   "latestWkid": 5514
  }
 },
 "minScale": 150000,
 "maxScale": 1000,
 "units": "esriMeters",
 "supportedImageFormatTypes": "PNG32,PNG24,PNG,JPG,DIB,TIFF,EMF,PS,PDF,GIF,SVG,SVGZ,BMP",
 "documentInfo": {
  "Title": "Historické mapy - 1361",
  "Author": "",
  "Comments": "Moravská Ostrava. Přehledný plán města (spojených obcí) a nejbližšího okolí. Proveden dle nákresů městského stavebního úřadu.\n\nPopsány veřejné a soukromé budovy, vyznamné průmyslové, hospodářské a nezastavěné plochy, projektované ulice, místní dráhy aj. Měřítko originální mapy je 1 : 10 000. \n\nMapa se vykresluje do měřítka 1 : 1000",
  "Subject": "Historické mapy",
  "Category": "",
  "AntialiasingMode": "None",
  "TextAntialiasingMode": "Force",
  "Keywords": "Historické mapy"
 },
 "capabilities": "Map,Query,Data",
 "supportedQueryFormats": "JSON, AMF, geoJSON",
 "exportTilesAllowed": false,
 "supportsDatumTransformation": true,
 "maxRecordCount": 1000,
 "maxImageHeight": 4096,
 "maxImageWidth": 4096,
 "supportedExtensions": ""
}
